BEGIN:VCALENDAR
METHOD:PUBLISH
PRODID:-//SCTS-Website//EN
VERSION:2.0
BEGIN:VEVENT
ORGANIZER;CN=Walid Elmahdy:MAILTO:walid.elmahdy@nhs.net
DTSTAMP:20240429T142327Z
DTSTART:20240617T080000Z
DTEND:20240618T160000Z
SUMMARY:The Leeds Aortic course
UID:378@SCTS
CREATED:20240429
DESCRIPTION:\n\nYou are cordially invited to join The Leeds Aortic course on the 17th-18th of June 2024.\n\nThe course is bringing together Cardiac and Vascular expertise, focussing on the practical approach of Aortic team practice. This event will combine talks, video\ndemonstrations, simulators and extensive hands on experience on Thiel cadavers.\n\nThe course covers the whole of the aorta including arch surgery using Frozen Elephant Trunk, hybrid techniques with antegrade/retrograde TEVARS. The course is targeted to Cardiac, Aortovascular and Hybrid surgeons.\n\nCandidates will be assigned as operators or observers based on the level of experience.\n\nPlease enrol as soon as possible as there are limited places due the practical nature of this course.\n\nRegister here\n\n
LOCATION:Leeds
END:VEVENT
END:VCALENDAR