BEGIN:VCALENDAR
METHOD:PUBLISH
PRODID:-//SCTS-Website//EN
VERSION:2.0
BEGIN:VEVENT
ORGANIZER;CN=Mara Banuta:MAILTO:mara@scts.org
DTSTAMP:20240426T090341Z
DTSTART:20240509T070000Z
DTEND:20240509T170000Z
SUMMARY:NAHP Core Thoracic Surgical Skills Course
UID:377@SCTS
CREATED:20240426
DESCRIPTION:\n\n\n\nCourse directors: Miss. Xiao Liu, Dr Hemangi Chavan and Prof Bhuvaneswari Krishnamoorthy \nCPD points: 5 points with certificate\n\nProgramme\n\nCourse aimed at:\n\nNurses, Allied Health Professionals, Surgical Care Practitioners, Operating Department Practitioners, Physiotherapist, Physician Associates and Foundation Doctors.\n\nCourse fee:\n\nFree for SCTS members, however registration via website required.£60 for Non-SCTS members. Non-attendees will not be refunded.Learning outcomes:\n\n1. Enhance your understanding and knowledge of how to care for Thoracic patients. \n\n2. Review Thoracic Anatomy and physiology \n\n3. Define the presentation and diagnosis of Thoracic patients. \n\n4. Understand common Thoracic procedures and management of postoperative complications \n\n \n\n
LOCATION:Virtual - Zoom
END:VEVENT
END:VCALENDAR