BEGIN:VCALENDAR
METHOD:PUBLISH
PRODID:-//SCTS-Website//EN
VERSION:2.0
BEGIN:VEVENT
ORGANIZER:MAILTO:mara@scts.org
DTSTAMP:20240418T124115Z
DTSTART:20241130T134000Z
DTEND:20241201T134000Z
SUMMARY:Ultrasound Venous and Arterial Scanning Course (UVAS)
UID:376@SCTS
CREATED:20240418
DESCRIPTION:\n\n
LOCATION:Birmingham
END:VEVENT
END:VCALENDAR