BEGIN:VCALENDAR
METHOD:PUBLISH
PRODID:-//SCTS-Website//EN
VERSION:2.0
BEGIN:VEVENT
ORGANIZER;CN=Augusta Paulikaite:MAILTO:a.paulikaite1@uni.bsms.ac.uk
DTSTAMP:20240416T095523Z
DTSTART:20240518T073000Z
DTEND:20240518T163000Z
SUMMARY:1st National Undergraduate BSMS Cardiothoracic Surgical Society Conference
UID:375@SCTS
CREATED:20240416
DESCRIPTION:\n\n
LOCATION:Medical Teaching Building, Sussex University
END:VEVENT
END:VCALENDAR