BEGIN:VCALENDAR
METHOD:PUBLISH
PRODID:-//SCTS-Website//EN
VERSION:2.0
BEGIN:VEVENT
ORGANIZER:MAILTO:mara@scts.org
DTSTAMP:20240412T112623Z
DTSTART:20240703T230000Z
DTEND:20240704T230000Z
SUMMARY:ACTACC 2024
UID:374@SCTS
CREATED:20240412
DESCRIPTION:\n\n
LOCATION:Sophia Gardens - Glamorgan, Cricket Ground, Cardiff
END:VEVENT
END:VCALENDAR