BEGIN:VCALENDAR
METHOD:PUBLISH
PRODID:-//SCTS-Website//EN
VERSION:2.0
BEGIN:VEVENT
ORGANIZER;CN=Lorraine Richardson:MAILTO:Lorrainerichardson1@btinternet.com
DTSTAMP:20240412T104738Z
DTSTART:20240619T230000Z
DTEND:20240621T230000Z
SUMMARY:Liverpool Aortic Symposium X
UID:373@SCTS
CREATED:20240412
DESCRIPTION:\n\nAccepted abstracts and videos will be included in the course manual.\n\n \n\nPlease submit an abstract no more than one side of A4  and all presentations (including video) will be for 7 minutes followed by 3 minutes for questions\n\n \n\nDeadline for Abstract Submission Friday 10th May 2024\n\n \n\nPlease forward the abstract via email to: lorrainerichardson1@btinternet.com\n\n \n\nShould you require any further information please contact Lorraine on  077111 32946\n\nABSTRACT FORM\n\nPROGRAMME\n\n
LOCATION:Liverpool
END:VEVENT
END:VCALENDAR