BEGIN:VCALENDAR
METHOD:PUBLISH
PRODID:-//SCTS-Website//EN
VERSION:2.0
BEGIN:VEVENT
ORGANIZER;CN=Karishma Chandarana:MAILTO:karishma.chandarana@nhs.net
DTSTAMP:20240412T103402Z
DTSTART:20240531T080000Z
DTEND:20240531T150000Z
SUMMARY:Coronary Surgery Research in Practice
UID:372@SCTS
CREATED:20240412
DESCRIPTION:\n\n\n\n
LOCATION:Clinical Education Centre, Glenfield Hospital, Leicester
END:VEVENT
END:VCALENDAR