BEGIN:VCALENDAR
METHOD:PUBLISH
PRODID:-//SCTS-Website//EN
VERSION:2.0
BEGIN:VEVENT
ORGANIZER;CN=Mara Banuta:MAILTO:mara@scts.org
DTSTAMP:20240408T124459Z
DTSTART:20240928T090000Z
DTEND:20240928T120000Z
SUMMARY:NAHP Webinar Series 2024: Non-Medical Prescribing Webinar
UID:365@SCTS
CREATED:20240408
DESCRIPTION:\n\n10:00 to 13:00\n\n\n\nCourse directors: Ms Kathryn Hewitt and Mrs Nisha Bhudia \nCPD points: 5 points with certificate\n\nProgramme\n\nCourse aimed at Nurses, Allied health professionals, Surgical care practitioners, Operating department practitioners, Physician Associates, Physiotherapist and Foundation Doctors.\n\n \n\nCourse fee:\n\nFree to SCTS Members, but registration via the SCTS website required. £60 for Non SCTS members. Non-attendees will not be refunded.To become an SCTS member, please click here \n\n
LOCATION:Virtual - Zoom
END:VEVENT
END:VCALENDAR