BEGIN:VCALENDAR
METHOD:PUBLISH
PRODID:-//SCTS-Website//EN
VERSION:2.0
BEGIN:VEVENT
ORGANIZER;CN=Mara Banuta:MAILTO:mara@scts.org
DTSTAMP:20240408T124125Z
DTSTART:20240629T090000Z
DTEND:20240629T111500Z
SUMMARY:NAHP Research Webinar
UID:363@SCTS
CREATED:20240408
DESCRIPTION:\n\n\n\n \n\nCourse directors: Dr H Chavan, Mrs. R Magboo, Mrs. Z Khanbhai, Mrs. N Bhudia\nCPD points: 2 points with certificate\n\n \n\nCourse aimed at Nurses, Allied health professionals, Surgical care practitioners, Operating department practitioners, Physician Associates, Physiotherapist and Foundation Doctors.\n\nWebinar outline: \n\n									09:45- 10:00\n\n									Registration\n\n									Dr H Chavan\n\n													10:00 – 10:45\n\n									Writing a scientific abstract\n\n									Mr Shahzad Raja\n\n			Consultant Cardiac Surgeon\n\n			Royal Brompton and Harefield NHS Foundation Trust, London\n\n													10:45 – 11:30\n\n									 \n\n			Submitting abstracts to SCTS\n\n			 \n\n									Mr Sunil Bhudia\n\n			Consultant Cardiac Surgeon\n\n			Royal Brompton and Harefield NHS Foundation Trust, London\n\n													11:30– 12:00\n\n									 \n\n			How to engage local team in writing up a successful abstract\n\n			 \n\n									Miss Carol Tan\n\n			Consultant Thoracic Surgeon\n\n			Guy’s and St Thomas’ NHS Foundation Trust\n\n			London\n\n													 12:00 – 12:15\n\n									Discussion and closure\n\n									 \n\n						Course fee:\n\nFree for SCTS Members. To secure your place, please register via the SCTS webiste (button at the top right of this page).£60 for Non SCTS members. Non-attendees will not be refunded.To become an SCTS member, please click here \n\n
LOCATION:Virtual - Zoom
END:VEVENT
END:VCALENDAR