BEGIN:VCALENDAR
METHOD:PUBLISH
PRODID:-//SCTS-Website//EN
VERSION:2.0
BEGIN:VEVENT
ORGANIZER;CN=Emma Piotrowski:MAILTO:emma@scts.org
DTSTAMP:20240327T084929Z
DTSTART:20260315T080000Z
DTEND:20260317T180000Z
SUMMARY:SCTS Annual Meeting 2026
UID:360@SCTS
CREATED:20240327
DESCRIPTION:SCTS Annual Meeting 2026\n\nSunday 15th March - Tuesday 17th March 2026\n\n
LOCATION:ICC Belfast
END:VEVENT
END:VCALENDAR