BEGIN:VCALENDAR
METHOD:PUBLISH
PRODID:-//SCTS-Website//EN
VERSION:2.0
BEGIN:VEVENT
ORGANIZER:MAILTO:mara@scts.org
DTSTAMP:20240209T211834Z
DTSTART:20240229T213000Z
DTEND:20240229T173000Z
SUMMARY:What the Future Holds in Cardiac Surgery
UID:356@SCTS
CREATED:20240209
DESCRIPTION:\n\n \n\nEACTS (European Association for Cardiothoracic Surgery) has started the Pre Trainee Web Series for medical students and pre-trainee doctors on topics covering Cardiac and Thoracic Surgery and Medicine. It is aimed at medical students sitting exams and expand interest in these fields. This flier has details on the second talk on 29th February online at 16:30 and on how to register. \n\nPlease note that you will need to use Laptop/PC to join the course and Create a Free Account without membership. It doesn't work for mobile phone.\n\n \n\n
LOCATION:On line
END:VEVENT
END:VCALENDAR