BEGIN:VCALENDAR
METHOD:PUBLISH
PRODID:-//SCTS-Website//EN
VERSION:2.0
BEGIN:VEVENT
ORGANIZER;CN=Mr Y.Abouelela:MAILTO:Youssef.abouelela@nhs.net
DTSTAMP:20240209T133911Z
DTSTART:20240223T090000Z
DTEND:20240223T170000Z
SUMMARY:Coronary artery bypass grafting Wet Lab Course
UID:355@SCTS
CREATED:20240209
DESCRIPTION:\n\n
LOCATION:CTC education rooms Level D  Hospital, BTUH SS16 5NL
END:VEVENT
END:VCALENDAR