BEGIN:VCALENDAR
METHOD:PUBLISH
PRODID:-//SCTS-Website//EN
VERSION:2.0
BEGIN:VEVENT
ORGANIZER;CN=Mara Banuta:MAILTO:mara@scts.org
DTSTAMP:20240129T164323Z
DTSTART:20240516T070000Z
DTEND:20240517T140000Z
SUMMARY:ST3.1 Phase 1: Operative Cardiothoracic Surgery Course
UID:354@SCTS
CREATED:20240129
DESCRIPTION: \n\n\n\nST3.1 Phase 1: Operative Cardiothoracic Surgery Course \n\nThis course content includes:\n\nLive animal operating (cardiac)\n\nMedian sternotomyInternal mammary artery harvestAortic / venous cannulationCardioplegia cannulationVent placementProximal coronary anastomosisDistal coronary anastomosisAortic valve replacementSternal closureEmergency resternotomyHaemostasis and management of post-operative bleedingLive animal operating (thoracic)\n\nMediastinoscopyThoracotomyVATS port insertionWedge resectionPleurectomyLobectomyPneumonectomyTrainee feedback from previous years:\n\n'Fantastic course that provides an experience which cannot be produced in any other manner. Faculty were great!'\n\n'Hands on experience with close supervision'\n\n'Great trainer to trainee ratio'\n\n
LOCATION:Medizin im Grünen, Ulmenstraße 12, 15864 Wendisch Rietz, Germany
END:VEVENT
END:VCALENDAR