BEGIN:VCALENDAR
METHOD:PUBLISH
PRODID:-//SCTS-Website//EN
VERSION:2.0
BEGIN:VEVENT
ORGANIZER:MAILTO:mara@scts.org
DTSTAMP:20240112T114512Z
DTSTART:20240203T114300Z
DTEND:20240203T114300Z
SUMMARY:Yorkshire Cardiothoracic Student Engagement Day
UID:353@SCTS
CREATED:20240112
DESCRIPTION:\n\n \n\nOn February 3rd at the University of Hull there is a unique opportunity to explore cardiothoracic surgery! With talks, hands-on workshops where you can try operating on hearts, and networking opportunities, this event is ideal for medical students as well as junior doctors interested in cardiothoracic surgery. Simulations for the day includes but is not limited to: coronary anastomosis wetlabs, aortic valve replacement, mitral valve repair, lung resection and stapling, Basics of VATS, Transthoracic and Transoesophageal echocardiography and more! Have a look at our website of pictures from last year when our local team collaborated with the SCTS INSINC Team: https://www.hyms-ctsurg.uk/events/scts-engagement-day\n\n \n\nSecure your £15 tickets available here: https://hulluniunion.com/shop\n\n \n\nSelect the cardiothoracic surgery society in the drop-down! Tickets are limited so get yours as soon as possible.\n\n \n\n
LOCATION:University of Hull
END:VEVENT
END:VCALENDAR