BEGIN:VCALENDAR
METHOD:PUBLISH
PRODID:-//SCTS-Website//EN
VERSION:2.0
BEGIN:VEVENT
ORGANIZER:MAILTO:mara@scts.org
DTSTAMP:20240109T152706Z
DTSTART:20240605T142500Z
DTEND:20240608T142500Z
SUMMARY:1st World Summit for Pediatric and Congenital Heart Surgery
UID:351@SCTS
CREATED:20240109
DESCRIPTION:\n\n \n\nWe invite you to attend the 1st World Summit for Pediatric and Congenital Heart Surgery.\n\nFor the first time ever, the World Summit for Pediatric and Congenital Heart Surgery will be held in Bologna, Italy on June 5 – 8, 2024 and it will be hosted by the World Society for Pediatric and Congenital Heart Surgery (WSPCHS), the European Congenital Heart Surgeons Association (ECHSA) and the Congenital Heart Surgeons’ Society (CHSS).\n\nThe World Summit will include the participation of the Italian Society of Pediatric and Congenital Cardiology (SICP), the Association for European Paediatric and Congenital Cardiology (AEPC), the African Society for Pediatric and Congenital Heart Surgery (ASPCHS), the Asian Association for Pediatric and Congenital Heart Surgery (AAPCHS), the Sociedad Latina de Cardiología y Cirugía Cardiovascular Pediátrica, the Latin American Association of Cardiac and Endovascular Surgery (LACES), Congenital Heart Surgeons’ Society Japan (CHSS Japan).\n\nWe expect to bring together more than 500 delegates, representing the leading experts in the field from all over the world.\n\nWe are committed to make this World Summit the most comprehensive, current, and technologically-advanced meeting for Pediatric and Congenital Heart Surgery.\n\nWe look forward to seeing you in Bologna, where you can learn new techniques and care strategies, catch-up with old friends, and see the latest in technology and research, all in one place!\n\nSIGN UP\n\n
LOCATION:Bologna, Italy
END:VEVENT
END:VCALENDAR