BEGIN:VCALENDAR
METHOD:PUBLISH
PRODID:-//SCTS-Website//EN
VERSION:2.0
BEGIN:VEVENT
ORGANIZER;CN=Mara Banuta:MAILTO:mara@scts.org
DTSTAMP:20240109T135325Z
DTSTART:20241119T080000Z
DTEND:20241120T170000Z
SUMMARY:ST4.1 Phase 2: Core Cardiac Surgery Course
UID:349@SCTS
CREATED:20240109
DESCRIPTION:        \n\n              Programme\n\nST4.1: Core Cardiac Surgery Course \n\nThis course content includes:\n\nMitral valve surgery wet-labTricuspid valve surgery wet-labInfective endocarditisAtrial fibrillation surgery wet-labInfective endocarditisPericardiectomyCardiac tumour managementMassive pulmonary embolismRedo cardiac surgeryCongenital cardiac surgeryAtrial septal defect repair wet-labCardiac CT / MRIEchocardiography (TOE)
LOCATION:Ashorne Hill Conference Centre, Leamington Spa
END:VEVENT
END:VCALENDAR