BEGIN:VCALENDAR
METHOD:PUBLISH
PRODID:-//SCTS-Website//EN
VERSION:2.0
BEGIN:VEVENT
ORGANIZER;CN=Mara Banuta:MAILTO:mara@scts.org
DTSTAMP:20240109T133632Z
DTSTART:20240923T070000Z
DTEND:20240924T150000Z
SUMMARY:ST2.1: Essential Skills in Cardiothoracic Surgery Course
UID:346@SCTS
CREATED:20240109
DESCRIPTION: \n\n\n\nST2.1: Essential Skills in Cardiothoracic Surgery\n\nProgramme\n\nOverview\n\nThe aim of the course is to provide a systematic overview of all the Essential Skills required for a trainee early in their cardiothoracic surgery career, including small-group teaching on cardiothoracic anatomy, imaging, preoperative assessment and post-operative management.\n\nThe course will also give the candidates the opportunity to perform operative cardiothoracic surgical procedures during the wet-lab sessions. \n\nThis is the only course that has been formally approved by the SCTS.\n\nCourse Content\n\n• Cardiothoracic & conduit anatomy\n\n• Cardiothoracic pathology\n\n• Pre-operative assessment and risk stratification\n\n• Cardiopulmonary bypass\n\n• Cardiothoracic incisions and access\n\n• Angiography\n\n• Echocardiography & ECG\n\n• Cardiothoracic radiology (CXR, CT, MRI, PET)\n\n• Cardiac ITU management\n\n• Re-exploration for bleeding & tamponade\n\n• Oxygenation & ventilation\n\n• Thoracic postoperative management\n\n \n\nPlus HANDS-ON WET LAB\n\n• Median sternotomy & conduit harvesting\n\n• Thoracotomy & pulmonary resection\n\nCourse Registration\n\nCurrent ST2s in Cardiothoracic surgery programme will be invited to attend this course.\n\nCourse now open to TADs of equivalent level of experience (at least 6 months on a specialist Cardiothoracic Registrar Rota). Please fill in the below form and, following this, register via the link at the top right of this page. \n\nRegistrants on the course will be asked to pay a refundable deposit of £200 to SCTS Education to confirm their place. The deposit will be returned on attending the course and upon completion of the feedback form.  \n\nTAD Members Application Form\n\n{form=1060}\n\n
LOCATION:Nottingham City Hospital
END:VEVENT
END:VCALENDAR