BEGIN:VCALENDAR
METHOD:PUBLISH
PRODID:-//SCTS-Website//EN
VERSION:2.0
BEGIN:VEVENT
ORGANIZER;CN=Mara Banuta:MAILTO:mara@scts.org
DTSTAMP:20240109T133246Z
DTSTART:20240708T070000Z
DTEND:20240710T150000Z
SUMMARY:ST2.2 Phase 1: Introduction to Specialty Training in Cardiothoracic Surgery
UID:344@SCTS
CREATED:20240109
DESCRIPTION:\n\nST2.2 Phase 1: Introduction to specialty training course\n\nThis course content includes:\n\nCardiopulmonary bypassMyocardial protectionCPB emergenciesCardiac surgery scenariosAngiographyEchocardiography (TTE)Aortic cannulation & decannulationVenous cannulation & decannulationProximal coronary anastomosisDistal coronary anastomosisTrans-thoracic echocardiographyThoracic imaging – CT & PETCardiac Advanced Life Support (CALS) protocolsCTITU management & monitoringECG, arrhythmias & pacemakersIABP insertionOliguria & renal supportHypotension, low cardiac output syndrome & inotropesTrainee feedback:\n\n'Excellent overview of areas required for ST3 practice. Extremely friendly and approachable faculty who were willing to honestly discuss view, opinions, trouble shoot clinical and non-clinical issues and offer useful advice. No faults or complaints, I've never been on a course this useful, well thought out or run.'\n\n'It was a great introduction to the speciality and a nice way to catch up with fellow trainees and engage with trainers from all over the country. Attending this course prior to starting ST3 is appropriate, as it gives a good basis to build knowledge on.'\n\n'Small tutor to delegate ratio, a variety of tutors across specialty/age/background ie. gender, opportunity for socialising and networking at course dinner, good having the educational and social/accomodation components in the same location'\n\n
LOCATION:Ashorne Hill Conference Centre, Leamington Spa
END:VEVENT
END:VCALENDAR