BEGIN:VCALENDAR
METHOD:PUBLISH
PRODID:-//SCTS-Website//EN
VERSION:2.0
BEGIN:VEVENT
ORGANIZER;CN=Mara Banuta:MAILTO:mara@scts.org
DTSTAMP:20240109T132807Z
DTSTART:20240610T080000Z
DTEND:20240612T150000Z
SUMMARY:ST4.2 Phase 2: Core Thoracic Surgery Course
UID:343@SCTS
CREATED:20240109
DESCRIPTION:\n\nST4.2 Phase 2: Core Thoracic Surgery Course \n\nProgramme\n\nThis course content includes:\n\nATS techniques, including pleurectomy, wedge resectionPulmonary resection, including lobectomy, pneumonectomyLung cancerSolitary pulmonary nodulePulmonary metastasesMediastinal massesPleural effusionPneumothoraxMesotheliomaEmpyema / decorticationChemotherapy / radiotherapyMediastinal staging including CT / MRI / PET / EBUSLung function testsTrainee Feedback:\n\n'Very well run course, covered all the relevant material, faculty were friendly and approachable, facilities were top notch'\n\n'Excellent facilities, faculties and range of topics covered'\n\n'MDT sessions to consolidate learning were excellent '\n\n
LOCATION:Ashorne Hill Conference Centre, Leamington Spa, CV33 9QW
END:VEVENT
END:VCALENDAR