BEGIN:VCALENDAR
METHOD:PUBLISH
PRODID:-//SCTS-Website//EN
VERSION:2.0
BEGIN:VEVENT
ORGANIZER;CN=Mara Banuta:MAILTO:mara@scts.org
DTSTAMP:20240109T131851Z
DTSTART:20240508T070000Z
DTEND:20240509T170000Z
SUMMARY:ST5.1 Phase 2: Cardiothoracic Surgery Sub-specialty Course
UID:342@SCTS
CREATED:20240109
DESCRIPTION: \n\nST5.1 Phase 2: Cardiothoracic Surgery Sub-specialty Course \n\nThis course content includes:\n\nPrinciples of advanced mitral valve repairComplex pulmonary resectionPleural SurgeryHaemostatic Capabilities in Cardiac Surgery & Visible Patient - ETHICONPrinciples of proximal aortic surgery (aortic root and ascending aorta)Principles of heart transplantation, VAD & ECMOSurgery of the mediastinumPrinciples of oesophageal surgeryPrinciples of surgery for aortic dissection including cerebral & spinal protectionPrinciples of minimally invasive lung surgeryPrinciples of chest wall surgerySurgery for emphysemaSurgery of the Airway
LOCATION:Keele Anatomy & Surgical Training Centre
END:VEVENT
END:VCALENDAR