BEGIN:VCALENDAR
METHOD:PUBLISH
PRODID:-//SCTS-Website//EN
VERSION:2.0
BEGIN:VEVENT
ORGANIZER;CN=Mara Banuta:MAILTO:mara@scts.org
DTSTAMP:20240109T131242Z
DTSTART:20240417T070000Z
DTEND:20240418T170000Z
SUMMARY:ST7.1 Phase 3: Cardiothoracic Surgery Pre-Consultant Course
UID:340@SCTS
CREATED:20240109
DESCRIPTION:\n\n ST7.1 Phase 3: Cardiothoracic Surgery Pre-Consultant Course \n\nThis course is for ST7 level NTNs and Trust Appointed Doctors of equivalent level, via application form (please see bottom of the page for it). \n\nThis course content includes:\n\nCardiac:\n\nAortic arch replacement, Repair of post-infarct VSD, Valve-sparing root replacementAortic root abscess repair, Myectomy, Infective endocarditis, Emergency CABGSurgical management of mechanical complications of MI, Emergency aortic surgeryCardiopulmonary bypass emergencies, Cardiac traumaThoracic:\n\nApproaches to the superior sulcus, Approaches to the carina, Endobronchial valvesEndobronchial coils, Navigation bronchoscopy, Sleeve ResectionDouble sleeve, Bronchial Disruption, Central Hilar StabCarinal resection, Oesophageal repair.  \n\n
LOCATION:Keele Anatomy & Surgical Training Centre
END:VEVENT
END:VCALENDAR