BEGIN:VCALENDAR
METHOD:PUBLISH
PRODID:-//SCTS-Website//EN
VERSION:2.0
BEGIN:VEVENT
ORGANIZER:MAILTO:mara@scts.org
DTSTAMP:20231128T144938Z
DTSTART:20240202T144500Z
DTEND:20240203T144500Z
SUMMARY:PCR Imaging Valves Madrid
UID:335@SCTS
CREATED:20231128
DESCRIPTION:\n\n
LOCATION:Hotel Melia Avenida America, Madrid
END:VEVENT
END:VCALENDAR