BEGIN:VCALENDAR
METHOD:PUBLISH
PRODID:-//SCTS-Website//EN
VERSION:2.0
BEGIN:VEVENT
ORGANIZER:MAILTO:mara@scts.org
DTSTAMP:20231027T135053Z
DTSTART:20240202T090000Z
DTEND:20240202T160000Z
SUMMARY:Cardiothoracic Anatomy Workshop
UID:328@SCTS
CREATED:20231027
DESCRIPTION:Basic and Applied Anatomy workshop using available specimens. Faculty members will support the trainees.\n\nFriday 2 February 2024 | 9 am - 4 pm | in-person event | location: RCSEng, London.\n\n“The Royal College of Surgeons of England has awarded up to 5 CPD points” for the event.\n\n9.00 – 10 am _ Registration & Coffee Reception for Trainees10 am – 12.30 pm _ Session 1 - Basic Anatomy (Review of specimens)12.30 – 1.30 pm _ Lunch Break1.30 – 3.30 pm _ Session 2 - Applied Anatomy (Application of knowledge in case studies)3.30 – 4 pm _ Session AdjournsRESERVE A SPOT HERE\n\n
LOCATION:The Royal College of Surgeons of England
END:VEVENT
END:VCALENDAR