BEGIN:VCALENDAR
METHOD:PUBLISH
PRODID:-//SCTS-Website//EN
VERSION:2.0
BEGIN:VEVENT
ORGANIZER:MAILTO:mara@scts.org
DTSTAMP:20230911T095448Z
DTSTART:20230919T183000Z
DTEND:20230919T193000Z
SUMMARY:Aortic Dissection Research Grant Awards 2023
UID:312@SCTS
CREATED:20230911
DESCRIPTION:\n\n
LOCATION:Zoom
END:VEVENT
END:VCALENDAR