BEGIN:VCALENDAR
METHOD:PUBLISH
PRODID:-//SCTS-Website//EN
VERSION:2.0
BEGIN:VEVENT
ORGANIZER:MAILTO:papworth.pdevents@nhs.net
DTSTAMP:20230830T110420Z
DTSTART:20231124T183000Z
DTEND:20231125T180000Z
SUMMARY:Cambridge Aorta: II Aortic Isthmus Symposium
UID:309@SCTS
CREATED:20230830
DESCRIPTION:\n\nAims:\n\nTo tease out the best treatments for the whole of the aorta in the emergency and elective settingAnnual national meeting of cardiac and vascular specialtiesFriday evening dinner and debate:\n\nStarting at 18.30 and finishing 21.00\n\n‘Who do you think you are’ – cardiac vs vascularSessions throughout Saturday:\n\nStarting at 08:00 and finishing 17:00\n\nPart I: The Aortic RootKeynote lectureEcho assessment \n\nPart II: The Aortic ArchRepairing the aortic archRoyal Papworth experience of archreplacementsETTA UpdateCase presentations by delegates \n\nPart III: The Descending AortaComplex endovascular repairHow to be trained in aortic surgeryLive Streamed\n\nDue to the anticipated high demand to attend the event we are also offering tickets to view the event virtually via a live video stream.\n\n \n\nCall for Abstracts:\n\nCambridge Aorta II: Aortic Isthmus Symposium’s Call for Abstracts is an opportunity to share your research with UK and international colleagues who are actively working in the field of aortic and/or vascular surgery.\n\nAuthors of accepted abstracts will be placed in the live programme within the Part II: The Aortic Arch session. All presentations will be for 7 minutes followed by 3 minutes for questions. Certificate for Best abstract and presentation will be awarded by Terumo Aortic.\n\nThis course is accredited by The Royal College of Surgeons of England \n\n\n\nWho should attend?\n\nCardiac and Vascular Surgeons – trained and in training.\n\nFaculty led by:\n\nMr Stephen Large\nConsultant Surgeon, Royal Papworth Hospital\n\nMr Ravi De Silva\nConsultant Surgeon, Royal Papworth Hospital\n\nRoyal Papworth Hospital organises and hosts cardiothoracic courses for medical professionals. As a world-renowned hospital with a wealth of specialist expertise, our staff are well placed to share their knowledge and experience with clinical colleagues.\n\n\n\n
END:VEVENT
END:VCALENDAR