BEGIN:VCALENDAR
METHOD:PUBLISH
PRODID:-//SCTS-Website//EN
VERSION:2.0
BEGIN:VEVENT
ORGANIZER:MAILTO:mara@scts.org
DTSTAMP:20230804T110208Z
DTSTART:20230928T110100Z
DTEND:20230929T110100Z
SUMMARY:LONDON AORTA 2023
UID:304@SCTS
CREATED:20230804
DESCRIPTION:\n\n
LOCATION:Royal College of Physicans
END:VEVENT
END:VCALENDAR