BEGIN:VCALENDAR
METHOD:PUBLISH
PRODID:-//SCTS-Website//EN
VERSION:2.0
BEGIN:VEVENT
ORGANIZER;CN=Lorraine Richardson:MAILTO:Lorrainerichardson1@btinternet.com
DTSTAMP:20230712T104522Z
DTSTART:20230921T104300Z
DTEND:20230923T104300Z
SUMMARY:Birmingham Review Course in Cardiothoracic Surgery
UID:296@SCTS
CREATED:20230712
DESCRIPTION:\n\nBirmingham Review Course in Cardiothoracic Surgery\n\n21st - 23rd September 2023\n\nThis year is the 30th Year of the Birmingham Review Course.\n\nThe course includes didactic lectures and interactive seminars with the possibility to discuss and interact with the full international faculty.\n\nMore information and registration here\n\n
LOCATION:Birmingham Heartlands Hospital
END:VEVENT
END:VCALENDAR