BEGIN:VCALENDAR
METHOD:PUBLISH
PRODID:-//SCTS-Website//EN
VERSION:2.0
BEGIN:VEVENT
ORGANIZER:MAILTO:mara@scts.org
DTSTAMP:20230711T144027Z
DTSTART:20230922T080000Z
DTEND:20230922T150000Z
SUMMARY:Cardiothoracic Anatomy Workshops
UID:295@SCTS
CREATED:20230711
DESCRIPTION:\n\nTrainees are expected to sign up for both sessions as these come as a pair; however, if they are unable to attend both, they can at least attend one.\n\n \n\n1st September Workshop\n\nBasic and Applied Anatomy workshop using available specimens. Faculty members will support the trainees.\n\nCardiothoracic Anatomy Workshop Programme\n\n• 9.00 – 10 am _ Registration & Coffee Reception for Trainees\n\n• 10 am – 12.30 pm _ Session 1 - Basic Anatomy (Review of specimens)\n\n• 12.30 – 1.30 pm _ Lunch Break\n\n• 1.30 – 3.30 pm _ Session 2 - Applied Anatomy (Application of knowledge in case studies)\n\n• 3.30 – 4 pm _ Session Adjourns\n\nRegistration\n\n \n\n22nd September Workshop\n\nBasic and Applied Anatomy workshop using available specimens. Faculty members will support the trainees.\n\nCardiothoracic Anatomy Workshop Programme\n\n• 9.00 – 10 am _ Registration & Coffee Reception for Trainees\n\n• 10 am – 12.30 pm _ Session 1 - Basic Anatomy (Review of specimens)\n\n• 12.30 – 1.30 pm _ Lunch Break\n\n• 1.30 – 3.30 pm _ Session 2 - Applied Anatomy (Application of knowledge in case studies)\n\n• 3.30 – 4 pm _ Session Adjourns\n\nRegistration\n\n \n\nPlease also visit the Anatomy and Pathology Museum at Royal College of Surgeons here. \n\n
LOCATION:The Royal College of Surgeons of England
END:VEVENT
END:VCALENDAR