BEGIN:VCALENDAR
METHOD:PUBLISH
PRODID:-//SCTS-Website//EN
VERSION:2.0
BEGIN:VEVENT
ORGANIZER:MAILTO:mara@scts.org
DTSTAMP:20230614T132144Z
DTSTART:20230629T063000Z
DTEND:20230630T163000Z
SUMMARY:Barts AortoVascular Symposium 900
UID:293@SCTS
CREATED:20230614
DESCRIPTION:\n\n\n\n\n\n\n\n\n\n\n\n\n\n\n\n\n\n
LOCATION:Royal College of Physicians, 11 St. Andrew’s Place, London, NW1 4LE
END:VEVENT
END:VCALENDAR