BEGIN:VCALENDAR
METHOD:PUBLISH
PRODID:-//SCTS-Website//EN
VERSION:2.0
BEGIN:VEVENT
ORGANIZER;CN=Mara Banuta:MAILTO:mara@scts.org
DTSTAMP:20230605T121125Z
DTSTART:20230701T090000Z
DTEND:20230701T110000Z
SUMMARY:Research Webinar
UID:291@SCTS
CREATED:20230605
DESCRIPTION:\n\nResearch Webinar\n\nSaturday 1st July 2023\n\nProgramme\n\n10:00 - 12:00\n\n\n\nCourse directors: Mrs. R Magboo, Mrs. Z Khanbhai, Mrs. N Bhudia and Miss. H Chavan\n\nCPD points: 5 points with certificate\n\n \n\nCourse aimed at Nurses, Allied Health Professionals, Surgical Care Practitioners, Operating Department Practitioners, Physiotherapist and Foundation Doctors.\n\nCourse fee:\n\nFree for SCTS NAHP Members (National and International)£60 for Non SCTS members (become the SCTS member and get £60 refunded)International membership is £15 only, please join us.To secure your place, you will be requested to pay a £20 deposit through the SCTS website.To become an SCTS member, please click hereNew SCTS members will receive a refund if application is completed before the course starts.Please note that non-attendees will not be refunded. International non-members are welcome to join us on reduced rate to access all the courses free of cost.Programme\n\n									09:45\n\n									Registration\n\n									 \n\n													 \n\n									Moderators\n\n									 \n\n													10:00\n\n									Introduction (Quiz)\n\n									 \n\n													10:10 – 10:55\n\n									Writing a scientific abstract\n\n									Mr Shahzad Raja\n\n			Consultant Cardiac Surgeon\n\n			Royal Brompton and Harefield NHS Foundation Trust, London\n\n			 \n\n													 11:00 – 11:40\n\n									Top tips for creating a poster presentation\n\n			 \n\n									Prof Lis Neubeck\n\n			Professor of Cardiovascular Nursing\n\n			Edinburgh Napier University\n\n			 \n\n													11:45– 11:55\n\n									Submitting abstract to SCTS\n\n									Mr  Cha Rajakaruna\n\n			Consultant Cardiac Surgeon\n\n			Bristol Heart Institute\n\n													 11:55 – 12:00\n\n									Quiz and closure\n\n									 \n\n												
LOCATION:Virtual Online
END:VEVENT
END:VCALENDAR