BEGIN:VCALENDAR
METHOD:PUBLISH
PRODID:-//SCTS-Website//EN
VERSION:2.0
BEGIN:VEVENT
ORGANIZER;CN=The Royal Society of Medicine:MAILTO:mara@scts.org
DTSTAMP:20230526T125421Z
DTSTART:20230623T081500Z
DTEND:20230623T160000Z
SUMMARY:On-demand: Surgical management of heart failure
UID:288@SCTS
CREATED:20230526
DESCRIPTION:\n\nOn-demand: Surgical management of heart failure\n\nDate: Friday 23 June 2023 \n\nTime: 9:15am - 5:00pm BST\n\nLocation: Online\n\nJoin us for this educational event as we consider current practice, recent developments and future possibilities in surgical treatment for heart failure. There will be multiple lectures by experts in the field who will go into depth about the role of conventional cardiac surgery. Take part and enhance your understanding of how to assess when heart failure patients should have conventional treatment or be referred for transplant assessment. \n\nOn-demand page link\n\n \n\n
LOCATION:On line
END:VEVENT
END:VCALENDAR