BEGIN:VCALENDAR
METHOD:PUBLISH
PRODID:-//SCTS-Website//EN
VERSION:2.0
BEGIN:VEVENT
ORGANIZER;CN=CADSIM:MAILTO:cadsim@leeds.ac.uk
DTSTAMP:20230524T130321Z
DTSTART:20230626T073000Z
DTEND:20230627T153000Z
SUMMARY:Leeds Aortic Course
UID:287@SCTS
CREATED:20230524
DESCRIPTION:\n\nDescription\n\nThis course brings together vascular and Cardiac surgeons, allied specialties representatives and senior vascular trainees with interest in aortic surgery. There is going to be mainly local and some international participation. This event will combine talks, video demonstrations and hands on dissections on Thiel cadavers. Start time 09:30 day 1 Start time 08:30 day 2\n\nAdditional information\n\n The course is open to ST5 and above. The course is free for HE Yorkshire and Humber Trainees.\n\n If you are an out of region trainee and are interested in having a place  please contact  cadsim@leeds.ac.uk to register your interest and   if a place becomes available after priority is given to regional trainees, I will contact you. \n\nAims\n\nAddressing Educational needs\n\nthe adoption of endovascular techniques has diminished the exposure of trainees and specialists to open aortic surgeryendovascular approaches to aortic pathology often require adjunctive, less frequently used open techniquesthe decreased exposure to open aortic pathology often required in emergency setting does influence outcomesachieving competence for open aortic surgery, promoting specialist skills and preventing de-skilling may be obtained using alternativeObjectives\n\nto practice the common vascular exposures used for thoracic and abdominal aorta on cadaversto practice and discuss open surgical techniques for aneurysmal aortic disease, aortic dissections and infected aortas, thoracic, abdominaland thoraco-abdominalto discuss needs, strategic steps, milestones in our aim of running a high quality aortic service in the West Yorkshire regionaddressed to senior trainees with vascular and cardiac surgery interest (ST5 and above)Further information and Programme\n\n
LOCATION:CADSIM Venue, Leeds, Leeds - Yorkshire and the Humber
END:VEVENT
END:VCALENDAR