BEGIN:VCALENDAR
METHOD:PUBLISH
PRODID:-//SCTS-Website//EN
VERSION:2.0
BEGIN:VEVENT
ORGANIZER;CN=Prof Massimo Caputo MD:MAILTO:mara@scts.org
DTSTAMP:20230512T145317Z
DTSTART:20230522T173000Z
DTEND:20230522T210000Z
SUMMARY:Life Saving Heart Operations in Babies and Children
UID:285@SCTS
CREATED:20230512
DESCRIPTION:\n\nMore Information\n\n
LOCATION:St Ethelburga's Centre for Reconciliation and Peace 78 Bishopsgate London EC2N 4AG
END:VEVENT
END:VCALENDAR