BEGIN:VCALENDAR
METHOD:PUBLISH
PRODID:-//SCTS-Website//EN
VERSION:2.0
BEGIN:VEVENT
ORGANIZER;CN=Mara Banuta:MAILTO:mara@scts.org
DTSTAMP:20230421T130627Z
DTSTART:20230616T070000Z
DTEND:20230616T170000Z
SUMMARY:NAHP Core Cardiac Surgical Skills Course
UID:283@SCTS
CREATED:20230421
DESCRIPTION:\n\n\n\nCourse directors: Miss Kathryn Hewitt and Miss Lisa Carson\n\nNAHP chair: Prof. Bhuvaneswari Krishnamoorthy\nCPD points: 5 points with certificate\n\nProgramme\n\nCourse aimed at:\n\nNurses, Allied Health Professionals, Surgical Care Practitioners, Operating Department Practitioners, Physiotherapist, Physician Associates and Foundation Doctors.\n\nAccomodations\n\nLimitede amount of pre-course accomodations available alongside course registration. To enquire regarding availability, please reach out to Mara Banuta (mara@scts.org). \n\nCourse fee:\n\n£20 refundable deposit required for SCTS Members. To secure your place, please add a ticket to your account where you will be asked to pay a £20 deposit via PayPal.£60 for Non-SCTS members. Non-attendees will not be refundedSessions Include: \n\nAnatomy & PhysiologyCardiac Assessment (Head to Toe)\n\nPreoperative Screening and Optimisation\n\nCoronary Session\n\nAortic Session\n\nMitral Valve Session\n\nOther short seminars\n\n
LOCATION:Ashorne Hill, Leamington Spa, CV33 9QW
END:VEVENT
END:VCALENDAR