BEGIN:VCALENDAR
METHOD:PUBLISH
PRODID:-//SCTS-Website//EN
VERSION:2.0
BEGIN:VEVENT
ORGANIZER;CN=Royal College of Surgeons of England:MAILTO:membership@rcseng.ac.uk
DTSTAMP:20230421T110140Z
DTSTART:20230522T105700Z
DTEND:20230522T105700Z
SUMMARY:Future Surgeons 2023  - Monday 22 May
UID:282@SCTS
CREATED:20230421
DESCRIPTION:\n\n \n\nThe Royal College of Surgeons of England will be holding its inaugural conference for medical students, Future Surgeons 2023, on Monday 22 May!  Book your ticket on Eventbrite today.\n\nBook your ticket\n\nBooking is open to students from all medical schools from across the UK.  Tickets cost £15 in-person or £5 online. \n\n \n\nJoin us at the College and online for\n\n·       inspiring talks on humanitarian surgery, diversity and the future of surgery\n\n·       interactive practical workshops and opportunities to explore our anatomy and pathology collections\n\n·       sessions to help you prepare for the next stage of your career, and\n\n·       networking with peers from across the UK.\n\n \n\nAre you an RCS England Affiliate member? This full day conference is free for Affiliate members.  You will simply pay a £15 deposit and be refunded shortly after you attend the conference.\n\nPlease note if you are not currently a member but would like to know how to access loads of great benefits and discounts, join as an Affiliate member for just £15 today!*\n\nJoin as an Affiliate member\n\nYou can also reach out to the team at membership@rcseng.ac.uk prior to booking your place to ensure you can book a member’s refundable ticket. \n\n \n\nWe look forward to seeing you there!\n\n \n\n* Your membership application must be complete by Friday 19 May 2023.  This offer is for in-person Future Surgeons 2023 tickets only. \n\n
LOCATION:Royal College of Surgeons of England
END:VEVENT
END:VCALENDAR