BEGIN:VCALENDAR
METHOD:PUBLISH
PRODID:-//SCTS-Website//EN
VERSION:2.0
BEGIN:VEVENT
ORGANIZER;CN=Dawn McKinley:MAILTO:dawn.mckinley@btog.org>
DTSTAMP:20230413T105419Z
DTSTART:20230426T080000Z
DTEND:20230428T170000Z
SUMMARY:21st Annual British Thoracic Oncology Group Conference 2023
UID:280@SCTS
CREATED:20230413
DESCRIPTION:PROGRAMME\n\nREGISTRATION\n\n21st Annual British Thoracic Oncology Group Conference 2023\nWednesday 26th to 28th April 2023 – ICC Belfast\n\n@BTOGORG #BTOG23\n\nThe annual conference is BTOG’s flagship event - a 3-day educational event, CPD accredited and involves national and international experts.  The programme includes presentations, panel discussions, specialist parallel sessions, poster oral presentations, collaborative sessions and sponsored satellite meetings.  BTOG strives to create an environment at the annual conference that facilitates interaction and networking. \n\nLearning Objectives:\n\nTo update all attendees on state-of-the-art management of lung cancer and other thoracic malignancies; to develop new national research studies in lung cancer and mesothelioma.To give knowledge of new procedures for the management of lung cancer and other thoracic malignancies.To increase understanding of multi-disciplines on the nature of clinical practice and research and to learn from clinical experts about implication on UK practice now and in the future.\n\n \n\n
LOCATION:ICC Belfast
END:VEVENT
END:VCALENDAR