BEGIN:VCALENDAR
METHOD:PUBLISH
PRODID:-//SCTS-Website//EN
VERSION:2.0
BEGIN:VEVENT
ORGANIZER;CN=Emma Piotrowski:MAILTO:emma@scts.org
DTSTAMP:20210418T124939Z
DTSTART:20220325T080000Z
DTEND:20220325T180000Z
SUMMARY:ST8A Thoracic pre-consultant course practical - Cadaveric (2019 - 2021)
UID:28@SCTS
CREATED:20210418
DESCRIPTION: \n\nThis bespoke course has been arranged in place of the live animal operating course that was due to take place in December 2021. This course is aimed at ST8s from 2019-2021, who missed the opportunity during the pandemic.\n\nThe ST8 Cardiac/Thoracic pre-consultant practical course is now open to Trust Appointed Doctors. Please complete the application form, which can be found at the top of this page. Please submit your application by Monday 28th February.\n\nST8A Cardiothoracic pre-consultant course\n\nThis course content is yet to be confirmed but similar to the ST8A Thoracic course programme which includes:\n\nCadaveric Lab\n\nApproaches to the superior sulcusApproaches to the carina – Sleeve pneumonectomy and carinal resectionVenacaval resection
LOCATION:Newcastle Training Centre
END:VEVENT
END:VCALENDAR