BEGIN:VCALENDAR
METHOD:PUBLISH
PRODID:-//SCTS-Website//EN
VERSION:2.0
BEGIN:VEVENT
ORGANIZER:MAILTO:mara@scts.org
DTSTAMP:20230406T153145Z
DTSTART:20230425T180000Z
DTEND:20230425T190000Z
SUMMARY:Advanced Preoperative Investigations for Cardiothoracic Surgery
UID:279@SCTS
CREATED:20230406
DESCRIPTION:\n\nOverview\n\nPatients referred for cardiac and thoracic surgery are increasingly complex and require careful assessment. Investigations form an important part of their management. Some of these tests are not used routinely and require expert interpretation. This webinar by an expert cardiologist will educate about some of these advanced investigations for e.g. nuclear perfusion scan, stress echo and cardiopulmonary exercise testing including their utility and interpretation.\n\nAims\n\nTo educate about advanced tests used in assessment of cardiothoracic surgical patients. \n\nLearning Objectives\n\nBy the end of this webinar, attendees should be able to:\n\nExplain when special tests should be used in management of cardiothoracic surgical patientsExplain indication of various testsDescribe how the tests are performedUnderstand the interpretation of test results.Panellists\n\nOur panellists include:\n\nDr. Nikant Sabharwal (Speaker) - Dr Sabharwal is a consultant cardiologist at John Radcliffe Hospital, Oxford with a subspecialty interest in cardiovascular imaging and nuclear cardiology.\n\nMr. Vivek Srivastava (Moderator) - Consultant Cardiac Surgeon, Oxford University Hospitals NHS FT; Member and Webinar Lead, Surgical Specialty Board for Cardiothoracic Surgery, RCSEd.\n\nCPD\n\n1 Hour\n\nTo be eligible to receive CPD hours for webinar attendance you must connect for the full duration of the webinar AND complete the feedback survey.\n\n
LOCATION:Virtual
END:VEVENT
END:VCALENDAR