BEGIN:VCALENDAR
METHOD:PUBLISH
PRODID:-//SCTS-Website//EN
VERSION:2.0
BEGIN:VEVENT
ORGANIZER;CN=Heart Research UK:MAILTO:mara@scts.org
DTSTAMP:20230330T115544Z
DTSTART:20230524T115300Z
DTEND:20230524T115300Z
SUMMARY:Masterclass in Endoscopic Heart Valve Surgery
UID:277@SCTS
CREATED:20230330
DESCRIPTION:Heart Research UK is hosting a Masterclass in Endoscopic Heart Valve Surgery on Wednesday 24th May 2023, at Brighton and Sussex Medical School. It is designed for individuals interested in becoming familiar with an endoscopic approach to heart valve surgery. Delegates will be expected to understand the indications and tips, tricks and pitfalls of this approach will be covered. A cadaver lab where delegates will be exposed to both 2D and 3D endoscopic valve surgery with very good interaction with faculty. We are confident that delegates will be comfortable with the theory and understand some of the practicalities of endoscopic heart valve surgery by attending this course.\n\n \n\nFor more details about these masterclasses and to book a place please visit the Heart Research UK website\n\n
LOCATION:Brighton and Sussex Medical School
END:VEVENT
END:VCALENDAR