BEGIN:VCALENDAR
METHOD:PUBLISH
PRODID:-//SCTS-Website//EN
VERSION:2.0
BEGIN:VEVENT
ORGANIZER:MAILTO:mara@scts.org
DTSTAMP:20230324T171324Z
DTSTART:20230331T070000Z
DTEND:20230331T153000Z
SUMMARY:Mitral Valve Symposium
UID:273@SCTS
CREATED:20230324
DESCRIPTION:Mitral Valve Symposium at the Essex Cardiothoracic Centre (Basildon) on Friday 31st of March 2023 (9 am to 4:30 pm). \n\nThe course is organised by Mr. Ahmed Shazly and Mr. Youssef Abouelela (Cardiothoracic Surgeons), who are based at the unit. \n\nIt is a FREE course. Certificates of attendance with 6 CPD points will be provided. \n\nContact details for booking: wetlab.organiser@outlook.com, contact person: Mr. Youssef Abouelela/ Mr. Ahmed Shazly. \n\n\n\n
END:VEVENT
END:VCALENDAR