BEGIN:VCALENDAR
METHOD:PUBLISH
PRODID:-//SCTS-Website//EN
VERSION:2.0
BEGIN:VEVENT
ORGANIZER;CN=Karen Booth:MAILTO:mara@scts.org
DTSTAMP:20230308T104921Z
DTSTART:20230313T200000Z
DTEND:20230313T210000Z
SUMMARY:WiCTS Educate - A Monthly Series: Session 2
UID:270@SCTS
CREATED:20230308
DESCRIPTION:\n\nWiCTS Educate - A Monthly Series: Session 2 - Monday 13th March 8pm-9pm\n\nThis session will be with Mr Simon Flemming focusing on Challenging Culture - allyship and sponsorship have the biggest impact.\n\n \n\n \n\n
LOCATION:Virtual online
END:VEVENT
END:VCALENDAR