BEGIN:VCALENDAR
METHOD:PUBLISH
PRODID:-//SCTS-Website//EN
VERSION:2.0
BEGIN:VEVENT
ORGANIZER;CN=Mr. N. McGonigle:MAILTO:mara@scts.org
DTSTAMP:20230301T211733Z
DTSTART:20230428T201600Z
DTEND:20230429T201600Z
SUMMARY:Thoracic Forum 2023
UID:269@SCTS
CREATED:20230301
DESCRIPTION:Date:                                       April 28th – 29th April 2023\n\n                                                Evening Meal on Friday 28th April 2023\n\n                                                Meeting for the duration of Saturday 29th April 2023\n\nVenue:                                   Europa Hotel Belfast, Great Victoria Street, Belfast, BT2 7AP \n\nHosted by:                             Belfast Health and Social Care Trust\n\nRegistration:                          Please find enclosed the registration form.\n\nRegistration Form\n\nInformation regarding the accommodation and a directional map are available at: \n\nhttps://www.europahotelbelfast.com/official/belfast_city\n\nProvisional Programme\n\nAs with previous year’s there will be a charge made to attend the meeting of £150 per Consultant       and £50 per SPR. \n\nAs you are aware the meeting is heavily subsidised and therefore, should you register and request accommodation to be booked on your behalf, but do not attend, then the full charge of £200 will be made to cover the cost of your pre-booked place. 									Mr. N. McGonigle\n\n			Consultant Thoracic Surgeon,\n\n			Belfast Health and Social Care Trust\n\n			 \n\n															For Further Information Contact:\n\n													L.R. Associates,\n			58, Kiln Close,\n			Calvert Green,\n			Buckingham,\n			MK18 2FD.\n\n			Tel: 077 111 32946 / Office: 01296 733823\n\n			Email: lorrainerichardson1@btinternet.com\n\n						
LOCATION:Europa Hotel Belfast, Great Victoria Street, Belfast, BT2 7AP
END:VEVENT
END:VCALENDAR