BEGIN:VCALENDAR
METHOD:PUBLISH
PRODID:-//SCTS-Website//EN
VERSION:2.0
BEGIN:VEVENT
ORGANIZER;CN=Prof B Krishnamoorthy, A Patel, M KalKat, L Rosson:MAILTO:mara@scts.org
DTSTAMP:20230217T180047Z
DTSTART:20230315T091500Z
DTEND:20230315T160000Z
SUMMARY:Research Masterclass
UID:267@SCTS
CREATED:20230217
DESCRIPTION:\n\nWe would like to invite you to attend research awareness masterclass event\n\nBy Prof. B Krishnamoorthy,A Patel, M KalKat, LRosson\n\n \n\nThis masterclass will support NHS staff from different ethnicity to develop evidence base practice and research skills.\n\nAims: To support all delegates to increase the awareness of research funding opportunities, importance of research, research stream fellowships and research career for patient benefit in UK wide.\n\nPurpose:\n\nTo increase an awareness about the opportunities in research careers, funding streams, research ideas to practice evidence-based healthcare.\n\nTo improve knowledge, skills, confidence about clinical research, research funding applications, research careers and available resources to support research engagement.\n\nWhat will be covered:\n\nImportance of clinical research in healthcare\n\nEquity in Health Research\n\nResources available to support research including funding\n\nPatient and public involvement in research\n\nResearch careers\n\nPlease email L.J.Rosson@salford.ac.uk if you have any food allergies, dietary requirements or accessibility adjustments.\n\n
LOCATION:Ashorne Hill Conference Centre
END:VEVENT
END:VCALENDAR