BEGIN:VCALENDAR
METHOD:PUBLISH
PRODID:-//SCTS-Website//EN
VERSION:2.0
BEGIN:VEVENT
ORGANIZER;CN=Prof Mahmoud Loubani:MAILTO:janine.peck1@nhs.net
DTSTAMP:20230217T175018Z
DTSTART:20230311T083000Z
DTEND:20230311T160000Z
SUMMARY:Thoracic WetLab Course
UID:266@SCTS
CREATED:20230217
DESCRIPTION:\n\nThe National Surgical Skills Society invites you to the second course of the UK Cardiothoracic WetLab Series, in collaboration with Medtronic.\nSave the date.  \n\n
LOCATION:Suite 22, Castle Hill Hospital
END:VEVENT
END:VCALENDAR