BEGIN:VCALENDAR
METHOD:PUBLISH
PRODID:-//SCTS-Website//EN
VERSION:2.0
BEGIN:VEVENT
ORGANIZER;CN=David J. O'regan:MAILTO:davido'regan@nhs.net
DTSTAMP:20230206T132702Z
DTSTART:20230602T122600Z
DTEND:20230603T122600Z
SUMMARY:PAR EXCELLENCE: Changing lives by changing thinking
UID:262@SCTS
CREATED:20230206
DESCRIPTION:\n\n
LOCATION:Surgical Skills Centre at Castle Hill, Hull
END:VEVENT
END:VCALENDAR