BEGIN:VCALENDAR
METHOD:PUBLISH
PRODID:-//SCTS-Website//EN
VERSION:2.0
BEGIN:VEVENT
ORGANIZER;CN=HEE East Midlands Cardiothoracic Program:MAILTO:mara@scts.org
DTSTAMP:20230131T195747Z
DTSTART:20230303T090000Z
DTEND:20230303T153000Z
SUMMARY:The Midlands Cardiothoracic Meeting
UID:260@SCTS
CREATED:20230131
DESCRIPTION:The Midlands Cardiothoracic Meeting\n\nA multi disciplinary scientific platform to encourage regional scientific work and evidence based practise in cardio thoracic surgery.\n\n\n\nAbout this event\n\nThis is a regional scientific meeting primarily aimed to provide opportunities for trainees, fellows and allied health professionals at all level to present their clinical/ scientific work.\n\nAs a part of this meeting, we have included invited talks from experts related to cardio-thoracic speciality.\n\nWe welcome clinical and academic research work and clinical audits relevant to cardio-thoracic surgery.\n\nPlease submit your abstracts to ctsurg.em@gmail.com\n\nA﻿bstracts accepted for SCTS and other national, international meetings are also welcome.\n\nP﻿rizes awarded for the best presentations.\n\n**Abstract submission deadline is 24th February 2023**\n\nAgenda and Registration\n\n
LOCATION:Glenfield Hospital Clinical education center, Lecture Hall. Groby Road Leicester LE3 9QP
END:VEVENT
END:VCALENDAR