BEGIN:VCALENDAR
METHOD:PUBLISH
PRODID:-//SCTS-Website//EN
VERSION:2.0
BEGIN:VEVENT
ORGANIZER;CN=EUROPEAN ASSOCIATION FOR CARDIO THORACIC SURGERY:MAILTO:mara@scts.org
DTSTAMP:20230123T132911Z
DTSTART:20230222T180000Z
DTEND:20230222T200000Z
SUMMARY:Robotics in Thoracic Surgery Webinar
UID:257@SCTS
CREATED:20230123
DESCRIPTION:\n\n
LOCATION:Virtual meeting
END:VEVENT
END:VCALENDAR