BEGIN:VCALENDAR
METHOD:PUBLISH
PRODID:-//SCTS-Website//EN
VERSION:2.0
BEGIN:VEVENT
ORGANIZER;CN=Emma Piotrowski:MAILTO:emma@scts.org
DTSTAMP:20230119T135850Z
DTSTART:20230209T173000Z
DTEND:20230209T183000Z
SUMMARY:SCTS Constitution Change Webinar
UID:255@SCTS
CREATED:20230119
DESCRIPTION:SCTS are holding a webinar on the constitution change to put forward the changes needed and the proposed timeline. We welcome all members to attend and there will be a Q&A session.\n\nPlease see the agenda below:\n\nAgenda\n\nConstitution and need for review: Narain Moorjani\n\nProposed Changes and Timeline: Rana Sayeed\n\nQ&A\n\nPlease see the Zoom Meeting Details:\n\nWhen: Feb 9, 2023 05:30 PM London\nTopic: SCTS Constitution Change Webinar\n\nPlease click the link below to join the webinar:\nhttps://us02web.zoom.us/j/89380674191?pwd=aWRPY21yN0F0QzhJakx0d0ZmQ0pBZz09\n\nPasscode: 133910\n\n \n\n \n\n
LOCATION:Virtual online
END:VEVENT
END:VCALENDAR