BEGIN:VCALENDAR
METHOD:PUBLISH
PRODID:-//SCTS-Website//EN
VERSION:2.0
BEGIN:VEVENT
ORGANIZER;CN=Karen Booth:MAILTO:mara@scts.org
DTSTAMP:20230103T104639Z
DTSTART:20230227T200000Z
DTEND:20230227T210000Z
SUMMARY:WiCTS Educate - A Monthly Series: Session 1
UID:254@SCTS
CREATED:20230103
DESCRIPTION: \n\n                                                            \n\n\n\n
LOCATION:Virtual online
END:VEVENT
END:VCALENDAR