BEGIN:VCALENDAR
METHOD:PUBLISH
PRODID:-//SCTS-Website//EN
VERSION:2.0
BEGIN:VEVENT
ORGANIZER;CN=Emma Piotrowski:MAILTO:emma@scts.org
DTSTAMP:20221125T130149Z
DTSTART:20240317T090000Z
DTEND:20240319T180000Z
SUMMARY:SCTS Annual Meeting 2024
UID:246@SCTS
CREATED:20221125
DESCRIPTION:\n\n
LOCATION:ICC Wales
END:VEVENT
END:VCALENDAR